BEGIN:VCALENDAR
PRODID:-//Session events Calendar//IBA//EN
CALSCALE:GREGORIAN
VERSION:2.0
BEGIN:VEVENT
DTSTAMP:20260421T202632Z
DTSTART:20231103T083000Z
DTEND:20231103T094500Z
SUMMARY:Funding growth for closely held companies
DESCRIPTION:This session will consider the various options available to c
 losely held businesses for funding growth - from bank finance to equity 
 investment to commercial partnerships and joint ventures. The panel will
  discuss the pros and cons of each option and the steps that owners can 
 take to mitigate risks and maximise opportunities.
LOCATION:Room 242 A\, Level 2
UID:ce464ca5-ac33-47bd-9d61-05fb179030c9
END:VEVENT
END:VCALENDAR
