BEGIN:VCALENDAR
PRODID:-//Session events Calendar//IBA//EN
CALSCALE:GREGORIAN
VERSION:2.0
BEGIN:VEVENT
DTSTAMP:20260424T113953Z
DTSTART:20231102T101500Z
DTEND:20231102T113000Z
SUMMARY:Highs and lows in investment arbitration
DESCRIPTION:This is the Arbitration Committee’s traditional session that 
 looks into the main developments of the year in investment arbitration.
LOCATION:Room 241\, Level 2
UID:40eb5095-3dbe-4601-823e-fbe81c3dac14
END:VEVENT
END:VCALENDAR
