BEGIN:VCALENDAR
PRODID:-//Session events Calendar//IBA//EN
CALSCALE:GREGORIAN
VERSION:2.0
BEGIN:VEVENT
DTSTAMP:20260425T135751Z
DTSTART:20231031T101500Z
DTEND:20231031T113000Z
SUMMARY:Beyond the hotline: best practices to manage ESG complaints from 
 workers\, communities\, business partners\, and other stakeholders
DESCRIPTION:This session will explore how companies are leveraging existi
 ng complaint mechanisms such as hotlines\, investigation procedures\, di
 spute resolution\, and principles of access to remedy to address ESG-rel
 ated grievances by key stakeholders. The panel will discuss case studies
  involving complaints in traditional compliance areas such as anti-corru
 ption and emerging ESG priorities such as human rights\, to provide stra
 tegic and practical guidance for lawyers and the companies they advise.
LOCATION:Room 342 B\, Level 3
UID:239edb7a-da89-40f6-b4c2-34dc788f325d
END:VEVENT
END:VCALENDAR
