BEGIN:VCALENDAR
PRODID:-//Session events Calendar//IBA//EN
CALSCALE:GREGORIAN
VERSION:2.0
BEGIN:VEVENT
DTSTAMP:20260423T090605Z
DTSTART:20231101T133000Z
DTEND:20231101T144500Z
SUMMARY:Alternative business structures and sustainability: the future of
  the legal profession
DESCRIPTION:This session will explore the role which alternative business
  structures have in reshaping the legal profession into a more sustainab
 le model of business practice. Discussions will centre around how altern
 ative business structures and new models of legal service can help foste
 r and support the UN SDG's 2030 agenda.
LOCATION:Room 253\, Level 2
UID:e728a78e-ccee-4e5e-85f9-9d3cd0efbefd
END:VEVENT
END:VCALENDAR
