BEGIN:VCALENDAR
PRODID:-//Session events Calendar//IBA//EN
CALSCALE:GREGORIAN
VERSION:2.0
BEGIN:VEVENT
DTSTAMP:20260421T184752Z
DTSTART:20231102T101500Z
DTEND:20231102T113000Z
SUMMARY:ESG - conversion of rules or the wild west?
DESCRIPTION:We will comment on the different ESG regulations and the pote
 ntial conflicts among them.
LOCATION:Room 351\, Level 3
UID:36216b1d-0c8f-476a-b089-67356e2a3aed
END:VEVENT
END:VCALENDAR
