BEGIN:VCALENDAR
PRODID:-//Session events Calendar//IBA//EN
CALSCALE:GREGORIAN
VERSION:2.0
BEGIN:VEVENT
DTSTAMP:20260419T115200Z
DTSTART:20231030T151500Z
DTEND:20231030T163000Z
SUMMARY:Wellbeing\, ethics and privacy conversations in the modern law fi
 rm
DESCRIPTION:Lack of support for a lawyer's wellbeing can have detrimental
  consequences for the individual concerned and the clients which they se
 rve. In this session we look at the many circumstances which can undermi
 ne wellbeing\; hybrid and remote working models\, mental and other healt
 h issues\, burnout\, lack of resources\, remuneration schemes that focus
  on billing targets\, etc. We develop thinking on the impact of wellbein
 g issues on lawyers\, law firms\, and in respect of the services deliver
 ed to clients\, and we also consider privacy and other issues which must
  be considered when deciding on the next steps. We also consider how eth
 ical and professional values are supported by the development of wellbei
 ng strategies within law firms.
LOCATION:Room 341\, Level 3
UID:2268f93d-dd5f-46b1-8817-423dd33b7218
END:VEVENT
END:VCALENDAR
