BEGIN:VCALENDAR
PRODID:-//Session events Calendar//IBA//EN
CALSCALE:GREGORIAN
VERSION:2.0
BEGIN:VEVENT
DTSTAMP:20260421T184747Z
DTSTART:20231102T101500Z
DTEND:20231102T113000Z
SUMMARY:Advancing accountability in Ukraine and beyond?
DESCRIPTION:The escalation of Russia's war in Ukraine has united many act
 ors in the international community in seeking a path to criminal account
 ability for the crimes being committed– including through supporting pro
 secutions in Ukrainian courts\; prosecutions in third states\, including
  under universal jurisdiction\; and an ongoing investigation by the Inte
 rnational Criminal Court. These efforts have included a number of innova
 tions\, including tech-forward investigations and NGO-coordinated docume
 ntation efforts. Following a November 2022 UN General Assembly resolutio
 n\, efforts are also underway to develop a reparations programme for los
 ses sustained as a result of the conflict.\n\nOn this panel\, we first d
 iscuss the accountability efforts in Ukraine\, looking particularly at h
 ow they are serving victims\, including victims of sexual violence and c
 hildren. Panelists will explore whether the lessons learnt in the justic
 e efforts in other conflicts have influenced best practices for investig
 ations in Ukraine ¬– and conversely if the innovative approaches in Ukra
 ine can be applied elsewhere.
LOCATION:Rooms 212-213\, Level 2
UID:a41eae16-61f8-47f0-9832-f6ee1738d36e
END:VEVENT
END:VCALENDAR
