BEGIN:VCALENDAR
PRODID:-//Session events Calendar//IBA//EN
CALSCALE:GREGORIAN
VERSION:2.0
BEGIN:VEVENT
DTSTAMP:20260425T163709Z
DTSTART:20230523T093000Z
DTEND:20230523T103000Z
SUMMARY:The innovators and disruptors: back with a vengeance?
DESCRIPTION:The 2017 edition of the Global Entrepreneurship Conference wa
 s devoted to the “disruptors” and how they were changing the economy. Th
 e perception was that traditional businesses and business models would h
 ave to adapt quickly or face extinction. Recent developments have seen a
  revival of non-technological businesses\, and in an environment of gene
 ral downturn for technology companies several scandals seem to have shak
 en confidence in the actual value of disruptors. Scepticsargue that the 
 innovations brought by the tech industry in the last years have not bene
 fited humanity. Can disruptors and innovators meet the needs of a world 
 that seeks sustainability and to improve the quality of life?\n\nWe will
  ask these and other challenging questions to several entrepreneurs and 
 representatives of innovative companies\, and discuss with them what the
  future of disruptors looks like.\n
LOCATION:
UID:70eac952-1d42-4b6a-b295-6059b09d73c8
END:VEVENT
END:VCALENDAR
