BEGIN:VCALENDAR
PRODID:-//Session events Calendar//IBA//EN
CALSCALE:GREGORIAN
VERSION:2.0
BEGIN:VEVENT
DTSTAMP:20260419T145020Z
DTSTART:20230313T161500Z
DTEND:20230313T171500Z
SUMMARY:Workshop 11: Developments in offshore financial centres 
DESCRIPTION:This workshop will explore the impact of global macro-economi
 c trends and geopolitical situation on (i) market access\, (ii) product 
 design and (iii) fundraising in traditional and alternative structuring 
 jurisdictions. This workshop will also cover the regulatory trends and c
 hallenges to overcome with respect to utilising offshore financial centr
 es.
LOCATION:The Institute of Engineering and Technology (The IET)
UID:f3ed3c2c-d109-469b-8e94-b5186ab36dd9
END:VEVENT
END:VCALENDAR
