BEGIN:VCALENDAR
PRODID:-//Session events Calendar//IBA//EN
CALSCALE:GREGORIAN
VERSION:2.0
BEGIN:VEVENT
DTSTAMP:20260425T231955Z
DTSTART:20230524T123000Z
DTEND:20230524T143000Z
SUMMARY:Running a bar post-Covid-19 – old challenges and new 
DESCRIPTION:Covid-19 focused the attention of many bars on the need to up
 date their technological capability to accommodate more virtual and remo
 te programming\, meetings and conferences\, among other things. While so
 me had made strides towards that\, others were faced with the need to ad
 apt immediately. With the general end of the pandemic and lockdowns\, it
  became apparent that various aspects of the new accommodations should n
 ot be abandoned\, and a return to “business as usual” was not optimum. T
 his interactive program addresses how bars are adapting post-Covid to re
 tain certain structures that proved advantageous\, and what lessons have
  been learned.
LOCATION:
UID:5b9fc044-e771-445a-8130-30aedcb0640b
END:VEVENT
END:VCALENDAR
