BEGIN:VCALENDAR
PRODID:-//Session events Calendar//IBA//EN
CALSCALE:GREGORIAN
VERSION:2.0
BEGIN:VEVENT
DTSTAMP:20260425T200722Z
DTSTART:20230525T080000Z
DTEND:20230525T093000Z
SUMMARY:Around the tables: a taste of hot topics – part I
DESCRIPTION:Topics will include:\n\n• Diversity and Inclusion\n• Lawyers 
 as Gatekeepers\n• Revitalising rule of law\n• Wellness in the legal prof
 ession\n• Update on recent global developments concerning international 
 trade in legal services\n• Good governance and role clarity\n\n
LOCATION:
UID:e9e57198-a542-4b1e-bff2-753799ef085b
END:VEVENT
END:VCALENDAR
