BEGIN:VCALENDAR
PRODID:-//Session events Calendar//IBA//EN
CALSCALE:GREGORIAN
VERSION:2.0
BEGIN:VEVENT
DTSTAMP:20260425T200723Z
DTSTART:20230525T110000Z
DTEND:20230525T123000Z
SUMMARY:Around the tables: a taste of hot topics – part II
DESCRIPTION:Topics will include:\n\n• Diversity and Inclusion\n• Lawyers 
 as Gatekeepers\n• Revitalising rule of law\n• Wellness in the legal prof
 ession\n• Update on recent global developments concerning international 
 trade in legal services\n• Good governance and role clarity\n
LOCATION:
UID:7a63cf94-95ca-43f3-b2c3-ec5a88cc2e14
END:VEVENT
END:VCALENDAR
