BEGIN:VCALENDAR
PRODID:-//Session events Calendar//IBA//EN
CALSCALE:GREGORIAN
VERSION:2.0
BEGIN:VEVENT
DTSTAMP:20260425T195441Z
DTSTART:20230524T100000Z
DTEND:20230524T103000Z
SUMMARY:Welcome and opening remarks
DESCRIPTION:
LOCATION:
UID:6ee1d141-0fba-4a9b-84ef-ff25d169e413
END:VEVENT
END:VCALENDAR
