BEGIN:VCALENDAR
PRODID:-//Session events Calendar//IBA//EN
CALSCALE:GREGORIAN
VERSION:2.0
BEGIN:VEVENT
DTSTAMP:20260425T195550Z
DTSTART:20230525T143000Z
DTEND:20230525T150000Z
SUMMARY:Closing remarks
DESCRIPTION:
LOCATION:
UID:b9fe107d-2991-4768-aa86-2da502346c20
END:VEVENT
END:VCALENDAR
