BEGIN:VCALENDAR
PRODID:-//Session events Calendar//IBA//EN
CALSCALE:GREGORIAN
VERSION:2.0
BEGIN:VEVENT
DTSTAMP:20260423T193933Z
DTSTART:20231030T151500Z
DTEND:20231030T163000Z
SUMMARY:How to track and to recover cryptocurrency
DESCRIPTION:When it comes to digital assets\, tracking and recovery is ch
 allenging\, both from an investigative and enforcement perspective\, giv
 en the speed at which digital assets can be transferred and a lack of no
 vum of international private law in this area. In response to these chal
 lenges\, this panel will discuss how civil asset recovery practitioners 
 can work harmoniously with law enforcement agencies to make recoveries\,
  and the benefits of an international model law to assist in the trackin
 g and recovery of digital assets. This discussion comes at a critical ti
 me following a multitude of significant cryptocurrency scandals across s
 everal jurisdictions globally\, not least the FTX scandal.
LOCATION:Room 343\, Level 3
UID:92a05150-f1d6-4e6e-bafb-1110b9e88bba
END:VEVENT
END:VCALENDAR
