BEGIN:VCALENDAR
PRODID:-//Session events Calendar//IBA//EN
CALSCALE:GREGORIAN
VERSION:2.0
BEGIN:VEVENT
DTSTAMP:20260419T182131Z
DTSTART:20230606T124500Z
DTEND:20230606T130000Z
SUMMARY:Welcome by Conference Co-Chairs and IBA
DESCRIPTION:
LOCATION:
UID:9c0673cd-3fc5-495d-98f3-d30a6753ecf5
END:VEVENT
END:VCALENDAR
