BEGIN:VCALENDAR
PRODID:-//Session events Calendar//IBA//EN
CALSCALE:GREGORIAN
VERSION:2.0
BEGIN:VEVENT
DTSTAMP:20260419T145154Z
DTSTART:20230606T130000Z
DTEND:20230606T140000Z
SUMMARY:A review of the worldwide M&A marketplace
DESCRIPTION:A prominent investment banker provides an insider’s view of t
 he financial\, economic\, and business factors affecting the M&amp\;A ma
 rket.
LOCATION:
UID:7470e925-da91-496e-a1f3-1f34fe0876bd
END:VEVENT
END:VCALENDAR
