BEGIN:VCALENDAR
PRODID:-//Session events Calendar//IBA//EN
CALSCALE:GREGORIAN
VERSION:2.0
BEGIN:VEVENT
DTSTAMP:20260419T221410Z
DTSTART:20230606T174500Z
DTEND:20230606T183000Z
SUMMARY:Keynote Address 
DESCRIPTION:
LOCATION:Grand Ballroom
UID:37a8b5b6-9364-438b-acfc-2de9ebbb127c
END:VEVENT
END:VCALENDAR
