BEGIN:VCALENDAR
PRODID:-//Session events Calendar//IBA//EN
CALSCALE:GREGORIAN
VERSION:2.0
BEGIN:VEVENT
DTSTAMP:20260421T202631Z
DTSTART:20231103T101500Z
DTEND:20231103T113000Z
SUMMARY:New data regulations in Europe: here’s the latest
DESCRIPTION:This panel will review the new EU data regulation. It will an
 alyse it in comparison with other regions and shall also deal with impor
 tant specific issues\, including the free movement of data.
LOCATION:Room 341\, Level 3
UID:ca9543e0-08c2-42a6-997c-5ffc94858e10
END:VEVENT
END:VCALENDAR
