BEGIN:VCALENDAR
PRODID:-//Session events Calendar//IBA//EN
CALSCALE:GREGORIAN
VERSION:2.0
BEGIN:VEVENT
DTSTAMP:20260421T184752Z
DTSTART:20231102T101500Z
DTEND:20231102T113000Z
SUMMARY:Resilient India: how India is growing stronger in the global mark
 et - opportunities\, challenges\, and current and future jurisdictional 
 trends and practices
DESCRIPTION:India continues to be one of the fastest growing economies in
  the world. The vision of the Indian government to achieve the GDP targe
 t of USD5 trillion by 2025 has seen several reforms in the existing law\
 , improving ease of doing business and key investments in strategic sect
 ors. India has one of the most vibrant start-up markets\, with a fast ma
 turing PE/VC industry. Data and technology are key drivers and concerns 
 for the stakeholders. Manufacturing in identified areas is a priority an
 d several initiatives have been taken to achieve this. India recognises 
 the need to be at the centre of world trade and is embarking on the ambi
 tious path of concluding free trade agreements with several countries an
 d blocks to ensure key goods\, parts and technology are available to Ind
 ian entrepreneurs and consumers while allowing greater opportunities for
  its domestic industry and workforce to operate at a global level.
LOCATION:Room 343\, Level 3
UID:1baaa079-e4a5-4208-a0d4-ddfd82c04511
END:VEVENT
END:VCALENDAR
