BEGIN:VCALENDAR
PRODID:-//Session events Calendar//IBA//EN
CALSCALE:GREGORIAN
VERSION:2.0
BEGIN:VEVENT
DTSTAMP:20260425T164840Z
DTSTART:20231030T133000Z
DTEND:20231030T144500Z
SUMMARY:Prosecuting and defending complaints for employer violations of w
 orkplace health and safety and psychosocial duties
DESCRIPTION:The panel will cover the steps employers should take to manag
 e psychological risk including risks arising from the workplace environm
 ent\, bullying and sexual harassment and what regulators around the glob
 e are doing to enforce breaches. This will include a mock regulator inte
 rview and highlight some of the questions and issues being investigated 
 by regulators. This panel will also cover recent developments in psychos
 ocial legal duties and ESG reporting and outline interesting cases from 
 different jurisdictions where employers have been prosecuted for a failu
 re to properly manage psychological risk.
LOCATION:Room 353\, Level 3
UID:032d1561-171b-4b31-bf24-a38295ab2d04
END:VEVENT
END:VCALENDAR
