BEGIN:VCALENDAR
PRODID:-//Session events Calendar//IBA//EN
CALSCALE:GREGORIAN
VERSION:2.0
BEGIN:VEVENT
DTSTAMP:20260419T145021Z
DTSTART:20230601T163000Z
DTEND:20230601T170000Z
SUMMARY:Keynote Speaker
DESCRIPTION:Dr Ryan Reeves Director of Science and Technology\, Internati
 onal Space Station US National Lab\, Melbourne\, Florida\n
LOCATION:
UID:11b8c4d2-e56d-4801-9aa2-f9445a50fcf9
END:VEVENT
END:VCALENDAR
