BEGIN:VCALENDAR
PRODID:-//Session events Calendar//IBA//EN
CALSCALE:GREGORIAN
VERSION:2.0
BEGIN:VEVENT
DTSTAMP:20260424T090857Z
DTSTART:20230914T123000Z
DTEND:20230914T200000Z
SUMMARY:Registration
DESCRIPTION:
LOCATION:
UID:7f5eeaca-6613-4313-870f-c7f0e2dd4142
END:VEVENT
END:VCALENDAR
