BEGIN:VCALENDAR
PRODID:-//Session events Calendar//IBA//EN
CALSCALE:GREGORIAN
VERSION:2.0
BEGIN:VEVENT
DTSTAMP:20260424T090857Z
DTSTART:20230914T133000Z
DTEND:20230914T134500Z
SUMMARY:Opening remarks
DESCRIPTION:
LOCATION:
UID:ae1f7317-97f6-435d-9b28-29d13e5f732c
END:VEVENT
END:VCALENDAR
