BEGIN:VCALENDAR
PRODID:-//Session events Calendar//IBA//EN
CALSCALE:GREGORIAN
VERSION:2.0
BEGIN:VEVENT
DTSTAMP:20260424T090857Z
DTSTART:20230914T150000Z
DTEND:20230914T163000Z
SUMMARY:New trends and financing in hostile takeovers
DESCRIPTION:The session discusses the current trends and future outlook o
 f hostile takeovers including\, but not limited to\, conditions that may
  be attached to the offer\, delisting plans of the raider and adequate d
 isclosure. The session will analyse the increasing need for financing in
  these campaigns in an environment with lower liquidity and increasing c
 ompetition among stock exchanges in different jurisdictions.
LOCATION:
UID:a9f90b49-23c0-4b45-a703-e7844bc91e1a
END:VEVENT
END:VCALENDAR
