BEGIN:VCALENDAR
PRODID:-//Session events Calendar//IBA//EN
CALSCALE:GREGORIAN
VERSION:2.0
BEGIN:VEVENT
DTSTAMP:20260424T091605Z
DTSTART:20230914T134500Z
DTEND:20230914T143000Z
SUMMARY:Keynote speaker
DESCRIPTION:
LOCATION:
UID:9b7accaf-d1b9-441a-86a7-d56651cdee72
END:VEVENT
END:VCALENDAR
