BEGIN:VCALENDAR
PRODID:-//Session events Calendar//IBA//EN
CALSCALE:GREGORIAN
VERSION:2.0
BEGIN:VEVENT
DTSTAMP:20260424T091605Z
DTSTART:20230914T143000Z
DTEND:20230914T150000Z
SUMMARY:Coffee/tea break
DESCRIPTION:
LOCATION:
UID:2c518d51-6c19-4f26-a446-28aa88f35053
END:VEVENT
END:VCALENDAR
