BEGIN:VCALENDAR
PRODID:-//Session events Calendar//IBA//EN
CALSCALE:GREGORIAN
VERSION:2.0
BEGIN:VEVENT
DTSTAMP:20260424T090857Z
DTSTART:20230914T180000Z
DTEND:20230914T193000Z
SUMMARY:Distressed assets and restructuring of publicly traded companies
DESCRIPTION:In a world where many countries are facing economic challenge
 s in the post-pandemic era\, assets of companies in formal reorganisatio
 n or bankruptcy proceedings became a great opportunity for discretionary
  buyers worldwide. This panel will discuss\, with specialists of selecte
 d jurisdictions\, the nuts and bolts of the reorganisation of publicly t
 raded companies and how to acquire distressed assets in such jurisdictio
 ns while minimising the risks for the buyer.\n
LOCATION:
UID:30726e4f-4a6c-4723-9e9c-81efc21e708d
END:VEVENT
END:VCALENDAR
