BEGIN:VCALENDAR
PRODID:-//Session events Calendar//IBA//EN
CALSCALE:GREGORIAN
VERSION:2.0
BEGIN:VEVENT
DTSTAMP:20260424T091628Z
DTSTART:20230914T163000Z
DTEND:20230914T180000Z
SUMMARY:Lunch
DESCRIPTION:
LOCATION:
UID:6ce2cbfe-6a37-463b-aa41-e1b9bc87b1a4
END:VEVENT
END:VCALENDAR
