BEGIN:VCALENDAR
PRODID:-//Session events Calendar//IBA//EN
CALSCALE:GREGORIAN
VERSION:2.0
BEGIN:VEVENT
DTSTAMP:20260424T091628Z
DTSTART:20230914T193000Z
DTEND:20230914T200000Z
SUMMARY:Coffee/tea break
DESCRIPTION:
LOCATION:
UID:0643bc92-9c15-4ff6-bac7-9e2f23d7f1ae
END:VEVENT
END:VCALENDAR
