BEGIN:VCALENDAR
PRODID:-//Session events Calendar//IBA//EN
CALSCALE:GREGORIAN
VERSION:2.0
BEGIN:VEVENT
DTSTAMP:20260424T090857Z
DTSTART:20230914T200000Z
DTEND:20230914T213000Z
SUMMARY:Finance closing conditions in securities transactions
DESCRIPTION:Securities transactions are frequently used to fund business 
 expansion globally. This panel will explore the use of different types o
 f securities transaction in financing operations such assets\, shares an
 d bonds together\, with practical examples of the most ordinary financin
 g conditions precedent. Experts from different jurisdictions will presen
 t the current trends in their relevant countries in terms of closing con
 ditions in securities transactions.
LOCATION:
UID:2ff50ac5-92a6-4846-a245-ff8ecf76b255
END:VEVENT
END:VCALENDAR
