BEGIN:VCALENDAR
PRODID:-//Session events Calendar//IBA//EN
CALSCALE:GREGORIAN
VERSION:2.0
BEGIN:VEVENT
DTSTAMP:20260424T091629Z
DTSTART:20230915T130000Z
DTEND:20230915T153000Z
SUMMARY:Registration
DESCRIPTION:
LOCATION:
UID:f1c6c182-3f27-458f-afad-05e48d47a9c2
END:VEVENT
END:VCALENDAR
