BEGIN:VCALENDAR
PRODID:-//Session events Calendar//IBA//EN
CALSCALE:GREGORIAN
VERSION:2.0
BEGIN:VEVENT
DTSTAMP:20260424T090857Z
DTSTART:20230915T133000Z
DTEND:20230915T150000Z
SUMMARY:Issuer Board Members’ duties in connection with Public Securities
  Transactions
DESCRIPTION:The development of capital markets in many jurisdictions and 
 new corporate structures of publicly-held corporations have raised the b
 ar in terms of novelties and complexities in transactions and other matt
 ers involving listed securities. To address these concerns\, as well as 
 the interests of the large number of stakeholders involved in public com
 pany M&amp\;A\, equity offerings and stock markets in general\, corporat
 e governance rules are becoming increasingly stricter.\nIn this session\
 , we will discuss the duties and roles of the board members in the conte
 xt of public securities transactions\, as the ones responsible for guara
 nteeing that the law and applicable rules will be respected and that new
  policies and trends (such as environmental\, social\, governance (ESG))
  are effectively promoted.
LOCATION:
UID:77c489cd-781d-4102-b991-21dfdabe2196
END:VEVENT
END:VCALENDAR
