BEGIN:VCALENDAR
PRODID:-//Session events Calendar//IBA//EN
CALSCALE:GREGORIAN
VERSION:2.0
BEGIN:VEVENT
DTSTAMP:20260424T090857Z
DTSTART:20230915T150000Z
DTEND:20230915T153000Z
SUMMARY:Coffee/tea break
DESCRIPTION:
LOCATION:
UID:d942a62b-b593-4bde-90e3-dbe0c6c839f5
END:VEVENT
END:VCALENDAR
