BEGIN:VCALENDAR
PRODID:-//Session events Calendar//IBA//EN
CALSCALE:GREGORIAN
VERSION:2.0
BEGIN:VEVENT
DTSTAMP:20260419T145113Z
DTSTART:20230601T124000Z
DTEND:20230601T131000Z
SUMMARY:Keynote Speaker
DESCRIPTION:Keynote Speaker\n\nArun Rao Deputy Assistant Attorney General
 \, US Department of Justice\, Washington\, DC\n
LOCATION:
UID:aaf72e49-0468-492a-b3ce-6740901b732e
END:VEVENT
END:VCALENDAR
