BEGIN:VCALENDAR
PRODID:-//Session events Calendar//IBA//EN
CALSCALE:GREGORIAN
VERSION:2.0
BEGIN:VEVENT
DTSTAMP:20260419T150002Z
DTSTART:20230601T200000Z
DTEND:20230601T210000Z
SUMMARY:Plenary session three - M&A panel on current trends in the HCLS i
 ndustry
DESCRIPTION:The M&amp\;A panel will focus on recent worldwide M&amp\;A ac
 tivity in the life science sector\, and market dynamics that are impacti
 ng levels of M&amp\;A activity. The panel will consider various types of
  deals as well as alternatives to M&amp\;A such as licensing and collabo
 ration deals between biotechs and big pharma. Considerations such as the
  state of capital markets and regulatory developments will also be revie
 wed.\n
LOCATION:
UID:221ecf53-1042-4f01-a6b5-8af1c744ac04
END:VEVENT
END:VCALENDAR
