BEGIN:VCALENDAR
PRODID:-//Session events Calendar//IBA//EN
CALSCALE:GREGORIAN
VERSION:2.0
BEGIN:VEVENT
DTSTAMP:20260419T145112Z
DTSTART:20230601T210000Z
DTEND:20230601T220000Z
SUMMARY:Plenary Session four - The revolution of the food industry into t
 he life sciences helm
DESCRIPTION:During the past decade\, the Food industry has been under con
 stant transformation. From climate change to consumer awareness and a pa
 ndemic\, the sector faced variations that tested its resilience and inno
 vation ability. With increased interest in plant-based options\, sustain
 able food production\, and consumer health concerns with affordability\,
  disruptive technologies are emerging. \n\nOur panel aims to discuss how
  those trends and standards for increased transparency and safety will r
 eflect in new regulatory and post-market realities.\n
LOCATION:
UID:9247978f-2c06-47e1-9633-f225c826e590
END:VEVENT
END:VCALENDAR
