BEGIN:VCALENDAR
PRODID:-//Session events Calendar//IBA//EN
CALSCALE:GREGORIAN
VERSION:2.0
BEGIN:VEVENT
DTSTAMP:20260419T145111Z
DTSTART:20230602T123000Z
DTEND:20230602T124000Z
SUMMARY:Welcome remarks
DESCRIPTION:
LOCATION:
UID:31282ea9-cf7f-4854-abc6-fe37fea2689f
END:VEVENT
END:VCALENDAR
