BEGIN:VCALENDAR
PRODID:-//Session events Calendar//IBA//EN
CALSCALE:GREGORIAN
VERSION:2.0
BEGIN:VEVENT
DTSTAMP:20260419T145020Z
DTSTART:20230602T152000Z
DTEND:20230602T163000Z
SUMMARY:Plenary session seven - Criminal considerations for corporate cou
 nsel
DESCRIPTION:A life sciences company in the crosshairs of a government inv
 estigation faces wide variability in the penalties that can be brought a
 gainst it and any responsible individuals within the company. Learn from
  government and in-house lawyers across the globe about the risk of crim
 inal liability for regulatory violations. The panel will provide a compa
 rison of the framework used in different countries for making prosecutor
 ial decisions\, and the compliance considerations that companies should 
 consider minimising potential criminal exposure. 
LOCATION:
UID:6368fe28-8f0c-4286-baa9-3748e36f5684
END:VEVENT
END:VCALENDAR
