BEGIN:VCALENDAR
PRODID:-//Session events Calendar//IBA//EN
CALSCALE:GREGORIAN
VERSION:2.0
BEGIN:VEVENT
DTSTAMP:20260424T090857Z
DTSTART:20230915T170000Z
DTEND:20230915T171500Z
SUMMARY:Closing remarks
DESCRIPTION:
LOCATION:
UID:1605a46e-d9af-4cbc-a729-5e4d4159bc29
END:VEVENT
END:VCALENDAR
