BEGIN:VCALENDAR
PRODID:-//Session events Calendar//IBA//EN
CALSCALE:GREGORIAN
VERSION:2.0
BEGIN:VEVENT
DTSTAMP:20260425T200723Z
DTSTART:20230928T071500Z
DTEND:20230928T080000Z
SUMMARY:Networking breakfast
DESCRIPTION:
LOCATION:
UID:404e951c-f25c-48d7-914e-505efbf988d0
END:VEVENT
END:VCALENDAR
