BEGIN:VCALENDAR
PRODID:-//Session events Calendar//IBA//EN
CALSCALE:GREGORIAN
VERSION:2.0
BEGIN:VEVENT
DTSTAMP:20260425T213141Z
DTSTART:20230928T080000Z
DTEND:20230928T081000Z
SUMMARY:Welcome remarks from the Conference Co-Chairs and Committee Chair
 
DESCRIPTION:
LOCATION:
UID:64cf2d90-b1ed-471c-bdfc-15b1c88a8baf
END:VEVENT
END:VCALENDAR
