BEGIN:VCALENDAR
PRODID:-//Session events Calendar//IBA//EN
CALSCALE:GREGORIAN
VERSION:2.0
BEGIN:VEVENT
DTSTAMP:20260425T200626Z
DTSTART:20230928T081000Z
DTEND:20230928T084500Z
SUMMARY:PE deals globally
DESCRIPTION:This data-rich session will set the stage for the day\, brief
 ing us on the global environment for private equity deals\, looking at g
 eographical spread\, sector focus\, exits and other key trends.
LOCATION:
UID:4654dc06-8311-4d77-a6d5-85d832dddc04
END:VEVENT
END:VCALENDAR
