BEGIN:VCALENDAR
PRODID:-//Session events Calendar//IBA//EN
CALSCALE:GREGORIAN
VERSION:2.0
BEGIN:VEVENT
DTSTAMP:20260425T200626Z
DTSTART:20230928T084500Z
DTEND:20230928T093000Z
SUMMARY:Deal critical legal issues
DESCRIPTION:This will be a deep dive into what leading lawyers are seeing
  as the most difficult and current challenges to doing deals in 2023. In
 novative solutions and ideas for adding value will be key take-aways for
  the audience.
LOCATION:
UID:c1a44abe-b27e-4b61-90d7-1762466d40f5
END:VEVENT
END:VCALENDAR
