BEGIN:VCALENDAR
PRODID:-//Session events Calendar//IBA//EN
CALSCALE:GREGORIAN
VERSION:2.0
BEGIN:VEVENT
DTSTAMP:20260425T200626Z
DTSTART:20230928T093000Z
DTEND:20230928T094500Z
SUMMARY:Coffee/ tea break
DESCRIPTION:
LOCATION:
UID:5a155cff-efd4-42c8-8995-c8003ec34dd9
END:VEVENT
END:VCALENDAR
