BEGIN:VCALENDAR
PRODID:-//Session events Calendar//IBA//EN
CALSCALE:GREGORIAN
VERSION:2.0
BEGIN:VEVENT
DTSTAMP:20260425T200723Z
DTSTART:20230928T101500Z
DTEND:20230928T110000Z
SUMMARY:The new frontiers of due diligence
DESCRIPTION:Where are sponsors going to supplement the information that t
 hey gain through legal and accounting due diligence? In a competitive en
 vironment\, the challenge for sponsors is to gain insights and perspecti
 ves that give an edge. Our panellists all look at target and portfolio c
 ompanies through slightly different lenses. Lawyers need to understand t
 hese approaches. They must ensure that they work collaboratively with ot
 her due diligence providers so that legal risks are properly analysed in
  a holistic approach to understanding both the upside and downside issue
 s in the business.\n
LOCATION:
UID:3081dd02-b0f9-4be7-9cf3-b1810f86d469
END:VEVENT
END:VCALENDAR
