BEGIN:VCALENDAR
PRODID:-//Session events Calendar//IBA//EN
CALSCALE:GREGORIAN
VERSION:2.0
BEGIN:VEVENT
DTSTAMP:20260425T200626Z
DTSTART:20230928T110000Z
DTEND:20230928T114500Z
SUMMARY:Debt markets: where is the leverage coming from?
DESCRIPTION:Debt has been one of the most challenging components of deals
  over the last year. Where does this stand today? What can we expect to 
 see as repayment obligations loom in 2024/5? Banks\, credit funds and bo
 nd markets all have a role to play in helping to re-establish momentum i
 n deal flow. This panel will equip you with an understanding of how this
  dynamic market is likely to develop.
LOCATION:
UID:9ff3f6e6-0346-43cc-b453-6d9c24e43958
END:VEVENT
END:VCALENDAR
