BEGIN:VCALENDAR
PRODID:-//Session events Calendar//IBA//EN
CALSCALE:GREGORIAN
VERSION:2.0
BEGIN:VEVENT
DTSTAMP:20260425T200626Z
DTSTART:20230928T114500Z
DTEND:20230928T124500Z
SUMMARY:Lunch
DESCRIPTION:
LOCATION:
UID:7ca4de50-9ef1-43a1-b61b-770683784de5
END:VEVENT
END:VCALENDAR
