BEGIN:VCALENDAR
PRODID:-//Session events Calendar//IBA//EN
CALSCALE:GREGORIAN
VERSION:2.0
BEGIN:VEVENT
DTSTAMP:20260425T201244Z
DTSTART:20230928T130500Z
DTEND:20230928T135000Z
SUMMARY:The investor landscape: current issues
DESCRIPTION:Every deal lawyer needs to understand the investor environmen
 t which in turn derives sponsor behaviour and deal flow. The current fun
 draising market is amongst the worst in recent years. What strategies ar
 e GPs using to raise capital and where are the continued opportunities f
 or growth? This panel will explore fundraising trends as well as private
  capital’s focus on retailisation and the continued spotlight on GP-led 
 transactions.
LOCATION:
UID:df845ccf-b397-480f-8613-e87141aed136
END:VEVENT
END:VCALENDAR
