BEGIN:VCALENDAR
PRODID:-//Session events Calendar//IBA//EN
CALSCALE:GREGORIAN
VERSION:2.0
BEGIN:VEVENT
DTSTAMP:20260425T200723Z
DTSTART:20230928T135000Z
DTEND:20230928T140500Z
SUMMARY:Coffee/ tea break
DESCRIPTION:
LOCATION:
UID:4a224cd1-533d-4e8e-973e-522e0f6557e7
END:VEVENT
END:VCALENDAR
